BEGIN:VCALENDAR
VERSION:2.0
PRODID:-//Sunkist Country Club - ECPv6.15.20//NONSGML v1.0//EN
CALSCALE:GREGORIAN
METHOD:PUBLISH
X-WR-CALNAME:Sunkist Country Club
X-ORIGINAL-URL:https://sunkistcc.com
X-WR-CALDESC:Events for Sunkist Country Club
REFRESH-INTERVAL;VALUE=DURATION:PT1H
X-Robots-Tag:noindex
X-PUBLISHED-TTL:PT1H
BEGIN:VTIMEZONE
TZID:America/Chicago
BEGIN:DAYLIGHT
TZOFFSETFROM:-0600
TZOFFSETTO:-0500
TZNAME:CDT
DTSTART:20240310T080000
END:DAYLIGHT
BEGIN:STANDARD
TZOFFSETFROM:-0500
TZOFFSETTO:-0600
TZNAME:CST
DTSTART:20241103T070000
END:STANDARD
BEGIN:DAYLIGHT
TZOFFSETFROM:-0600
TZOFFSETTO:-0500
TZNAME:CDT
DTSTART:20250309T080000
END:DAYLIGHT
BEGIN:STANDARD
TZOFFSETFROM:-0500
TZOFFSETTO:-0600
TZNAME:CST
DTSTART:20251102T070000
END:STANDARD
BEGIN:DAYLIGHT
TZOFFSETFROM:-0600
TZOFFSETTO:-0500
TZNAME:CDT
DTSTART:20260308T080000
END:DAYLIGHT
BEGIN:STANDARD
TZOFFSETFROM:-0500
TZOFFSETTO:-0600
TZNAME:CST
DTSTART:20261101T070000
END:STANDARD
END:VTIMEZONE
BEGIN:VEVENT
DTSTART;TZID=America/Chicago:20250412T080000
DTEND;TZID=America/Chicago:20250412T170000
DTSTAMP:20260420T100454
CREATED:20241022T140239Z
LAST-MODIFIED:20241022T140239Z
UID:10000136-1744444800-1744477200@sunkistcc.com
SUMMARY:Spiders Charity Golf Classic
DESCRIPTION:Please contact Chris Ramage at thenqfoundation@gmail.com     Four man scramble\, lunch\, reception\, wives and kids brunch.   12:00PM Shotgun Start
URL:https://sunkistcc.com/event/spiders-charity-golf-classic/
END:VEVENT
BEGIN:VEVENT
DTSTART;TZID=America/Chicago:20250422T120000
DTEND;TZID=America/Chicago:20250422T180000
DTSTAMP:20260420T100454
CREATED:20240925T085025Z
LAST-MODIFIED:20240925T085025Z
UID:10000130-1745323200-1745344800@sunkistcc.com
SUMMARY:MAPDD Golf Outing - 12:30PM Shotgun Start
DESCRIPTION:Golf outing for MAPDD that includes lunch in the ballroom\, complimentary beverages and prizes.    Tee times available that morning a a few in the afternoon.
URL:https://sunkistcc.com/event/mapdd-golf-outing-1230pm-shotgun-start/
END:VEVENT
BEGIN:VEVENT
DTSTART;TZID=America/Chicago:20250426T080000
DTEND;TZID=America/Chicago:20250426T133000
DTSTAMP:20260420T100454
CREATED:20240903T121755Z
LAST-MODIFIED:20240903T121755Z
UID:10000088-1745654400-1745674200@sunkistcc.com
SUMMARY:Dream Program Golf Tournament
DESCRIPTION:4 Man Scramble
URL:https://sunkistcc.com/event/dream-program-golf-tournament/
END:VEVENT
END:VCALENDAR