BEGIN:VCALENDAR
VERSION:2.0
PRODID:-//Sunkist Country Club - ECPv6.15.20//NONSGML v1.0//EN
CALSCALE:GREGORIAN
METHOD:PUBLISH
X-ORIGINAL-URL:https://sunkistcc.com
X-WR-CALDESC:Events for Sunkist Country Club
REFRESH-INTERVAL;VALUE=DURATION:PT1H
X-Robots-Tag:noindex
X-PUBLISHED-TTL:PT1H
BEGIN:VTIMEZONE
TZID:UTC
BEGIN:STANDARD
TZOFFSETFROM:+0000
TZOFFSETTO:+0000
TZNAME:UTC
DTSTART:20250101T000000
END:STANDARD
END:VTIMEZONE
BEGIN:VEVENT
DTSTART;TZID=UTC:20260623T160000
DTEND;TZID=UTC:20260623T190000
DTSTAMP:20260425T201546
CREATED:20260331T161055Z
LAST-MODIFIED:20260331T161055Z
UID:10005207-1782230400-1782241200@sunkistcc.com
SUMMARY:Taco Tuesday
DESCRIPTION:$3 chicken or beef taco\, $4 Shrimp Taco with sides and add ons\, 4pm-7pm
URL:https://sunkistcc.com/event/taco-tuesday-5/2026-06-23/
END:VEVENT
BEGIN:VEVENT
DTSTART;TZID=UTC:20260623T173000
DTEND;TZID=UTC:20260623T190000
DTSTAMP:20260425T201546
CREATED:20260303T212312Z
LAST-MODIFIED:20260303T212312Z
UID:10004875-1782235800-1782241200@sunkistcc.com
SUMMARY:TNML
DESCRIPTION:TUESDAY NIGHT MENS LEAGUE 530-
URL:https://sunkistcc.com/event/tnml/2026-06-23/
END:VEVENT
END:VCALENDAR