BEGIN:VCALENDAR
VERSION:2.0
PRODID:-//Sunkist Country Club - ECPv6.15.20//NONSGML v1.0//EN
CALSCALE:GREGORIAN
METHOD:PUBLISH
X-WR-CALNAME:Sunkist Country Club
X-ORIGINAL-URL:https://sunkistcc.com
X-WR-CALDESC:Events for Sunkist Country Club
REFRESH-INTERVAL;VALUE=DURATION:PT1H
X-Robots-Tag:noindex
X-PUBLISHED-TTL:PT1H
BEGIN:VTIMEZONE
TZID:America/Chicago
BEGIN:DAYLIGHT
TZOFFSETFROM:-0600
TZOFFSETTO:-0500
TZNAME:CDT
DTSTART:20230312T080000
END:DAYLIGHT
BEGIN:STANDARD
TZOFFSETFROM:-0500
TZOFFSETTO:-0600
TZNAME:CST
DTSTART:20231105T070000
END:STANDARD
BEGIN:DAYLIGHT
TZOFFSETFROM:-0600
TZOFFSETTO:-0500
TZNAME:CDT
DTSTART:20240310T080000
END:DAYLIGHT
BEGIN:STANDARD
TZOFFSETFROM:-0500
TZOFFSETTO:-0600
TZNAME:CST
DTSTART:20241103T070000
END:STANDARD
BEGIN:DAYLIGHT
TZOFFSETFROM:-0600
TZOFFSETTO:-0500
TZNAME:CDT
DTSTART:20250309T080000
END:DAYLIGHT
BEGIN:STANDARD
TZOFFSETFROM:-0500
TZOFFSETTO:-0600
TZNAME:CST
DTSTART:20251102T070000
END:STANDARD
END:VTIMEZONE
BEGIN:VEVENT
DTSTART;TZID=America/Chicago:20240926T160000
DTEND;TZID=America/Chicago:20240926T190000
DTSTAMP:20260420T201810
CREATED:20240807T085650Z
LAST-MODIFIED:20240807T085650Z
UID:10000009-1727366400-1727377200@sunkistcc.com
SUMMARY:Thirsty Thursday
DESCRIPTION:Frozen drink\, wine and beer specials.   Pot Luck on 8/8 and 8/22.    Bar menu available after grill closes.   4 to 7.
URL:https://sunkistcc.com/event/thirst-thursday/2024-09-26/
END:VEVENT
BEGIN:VEVENT
DTSTART;TZID=America/Chicago:20240926T160000
DTEND;TZID=America/Chicago:20240926T190000
DTSTAMP:20260420T201811
CREATED:20240807T153623Z
LAST-MODIFIED:20240807T153623Z
UID:10000050-1727366400-1727377200@sunkistcc.com
SUMMARY:Pot Luck from the Kitchen
DESCRIPTION:We will be serving up some delicious food on Pot Luck nights\, Potato soup special\, bowl $5\, soup and sandwich special $7.   Our grill will not be open but come grab a bite with your favorite beverage on our Thirsty Thursday nights!    Frozen Margaritas\, $3 draft & domestic beer and wine.      Please get here early before we run out of food!     Once we are out we will have our Bar Menu available.
URL:https://sunkistcc.com/event/pot-luck-from-the-kitchen-3/
END:VEVENT
END:VCALENDAR