BEGIN:VCALENDAR
VERSION:2.0
PRODID:-//Sunkist Country Club - ECPv6.15.20//NONSGML v1.0//EN
CALSCALE:GREGORIAN
METHOD:PUBLISH
X-ORIGINAL-URL:https://sunkistcc.com
X-WR-CALDESC:Events for Sunkist Country Club
REFRESH-INTERVAL;VALUE=DURATION:PT1H
X-Robots-Tag:noindex
X-PUBLISHED-TTL:PT1H
BEGIN:VTIMEZONE
TZID:America/Chicago
BEGIN:DAYLIGHT
TZOFFSETFROM:-0600
TZOFFSETTO:-0500
TZNAME:CDT
DTSTART:20230312T080000
END:DAYLIGHT
BEGIN:STANDARD
TZOFFSETFROM:-0500
TZOFFSETTO:-0600
TZNAME:CST
DTSTART:20231105T070000
END:STANDARD
BEGIN:DAYLIGHT
TZOFFSETFROM:-0600
TZOFFSETTO:-0500
TZNAME:CDT
DTSTART:20240310T080000
END:DAYLIGHT
BEGIN:STANDARD
TZOFFSETFROM:-0500
TZOFFSETTO:-0600
TZNAME:CST
DTSTART:20241103T070000
END:STANDARD
BEGIN:DAYLIGHT
TZOFFSETFROM:-0600
TZOFFSETTO:-0500
TZNAME:CDT
DTSTART:20250309T080000
END:DAYLIGHT
BEGIN:STANDARD
TZOFFSETFROM:-0500
TZOFFSETTO:-0600
TZNAME:CST
DTSTART:20251102T070000
END:STANDARD
END:VTIMEZONE
BEGIN:VEVENT
DTSTART;TZID=America/Chicago:20240924T160000
DTEND;TZID=America/Chicago:20240924T190000
DTSTAMP:20260422T114104
CREATED:20240807T090700Z
LAST-MODIFIED:20240807T090700Z
UID:10000017-1727193600-1727204400@sunkistcc.com
SUMMARY:Taco Tuesday!
DESCRIPTION:$3 Tacos\, margaritas\, wine and beer specials.
URL:https://sunkistcc.com/event/taco-tuesday/2024-09-24/
END:VEVENT
BEGIN:VEVENT
DTSTART;TZID=America/Chicago:20240924T173000
DTEND;TZID=America/Chicago:20240924T193000
DTSTAMP:20260422T114104
CREATED:20240807T150121Z
LAST-MODIFIED:20240807T150121Z
UID:10000047-1727199000-1727206200@sunkistcc.com
SUMMARY:Sunkist Members Men's Golf Scramble
DESCRIPTION:All men that are members of Sunkist are encouraged to play in our Twilight Men’s Golf Scramble on September 24th starting at 5:30PM.    Please call the golf shop or contact Mark Powell at mpowell@sunkistcc.com to enter.    Entry Fee will be $20 which includes gift certificate prizes\, tacos after play and 2 complimentary draft beers or wine.   It’s Twilight golf night on Taco Tuesday\, so be sure to sign up for a fun event.   All teams will be paired by the golf shop staff A-B-C-D.
URL:https://sunkistcc.com/event/sunkist-members-mens-golf-scramble/
END:VEVENT
END:VCALENDAR