BEGIN:VCALENDAR
VERSION:2.0
PRODID:-//Sunkist Country Club - ECPv6.15.20//NONSGML v1.0//EN
CALSCALE:GREGORIAN
METHOD:PUBLISH
X-ORIGINAL-URL:https://sunkistcc.com
X-WR-CALDESC:Events for Sunkist Country Club
REFRESH-INTERVAL;VALUE=DURATION:PT1H
X-Robots-Tag:noindex
X-PUBLISHED-TTL:PT1H
BEGIN:VTIMEZONE
TZID:America/Chicago
BEGIN:DAYLIGHT
TZOFFSETFROM:-0600
TZOFFSETTO:-0500
TZNAME:CDT
DTSTART:20230312T080000
END:DAYLIGHT
BEGIN:STANDARD
TZOFFSETFROM:-0500
TZOFFSETTO:-0600
TZNAME:CST
DTSTART:20231105T070000
END:STANDARD
BEGIN:DAYLIGHT
TZOFFSETFROM:-0600
TZOFFSETTO:-0500
TZNAME:CDT
DTSTART:20240310T080000
END:DAYLIGHT
BEGIN:STANDARD
TZOFFSETFROM:-0500
TZOFFSETTO:-0600
TZNAME:CST
DTSTART:20241103T070000
END:STANDARD
BEGIN:DAYLIGHT
TZOFFSETFROM:-0600
TZOFFSETTO:-0500
TZNAME:CDT
DTSTART:20250309T080000
END:DAYLIGHT
BEGIN:STANDARD
TZOFFSETFROM:-0500
TZOFFSETTO:-0600
TZNAME:CST
DTSTART:20251102T070000
END:STANDARD
END:VTIMEZONE
BEGIN:VEVENT
DTSTART;TZID=America/Chicago:20240915T120000
DTEND;TZID=America/Chicago:20240915T153000
DTSTAMP:20260420T221006
CREATED:20240807T155155Z
LAST-MODIFIED:20240807T155155Z
UID:10000052-1726401600-1726414200@sunkistcc.com
SUMMARY:New Orleans Saints - Dallas Cowboys Watch Party
DESCRIPTION:Come to the club to cheer on our beloved New Orleans Saints start the 2024-25 Season!    Grill will be open from 7A to 3P on Sundays with our normal bar.    Draft Beer\, Domestic bottles and cans are all marked at $3.    We will serve Chips and Salsa during the game or other goodies we have.       All games in September have a noon start!   9/8 – Saints/Panthers;  9/15 – Saints/Cowboys; 9/22 – Saints/Eagles; 9/29 – Saints/Falcons.
URL:https://sunkistcc.com/event/new-orleans-saints-football-3/
END:VEVENT
END:VCALENDAR