BEGIN:VCALENDAR
VERSION:2.0
PRODID:-//Sunkist Country Club - ECPv6.15.20//NONSGML v1.0//EN
CALSCALE:GREGORIAN
METHOD:PUBLISH
X-ORIGINAL-URL:https://sunkistcc.com
X-WR-CALDESC:Events for Sunkist Country Club
REFRESH-INTERVAL;VALUE=DURATION:PT1H
X-Robots-Tag:noindex
X-PUBLISHED-TTL:PT1H
BEGIN:VTIMEZONE
TZID:America/Chicago
BEGIN:DAYLIGHT
TZOFFSETFROM:-0600
TZOFFSETTO:-0500
TZNAME:CDT
DTSTART:20230312T080000
END:DAYLIGHT
BEGIN:STANDARD
TZOFFSETFROM:-0500
TZOFFSETTO:-0600
TZNAME:CST
DTSTART:20231105T070000
END:STANDARD
BEGIN:DAYLIGHT
TZOFFSETFROM:-0600
TZOFFSETTO:-0500
TZNAME:CDT
DTSTART:20240310T080000
END:DAYLIGHT
BEGIN:STANDARD
TZOFFSETFROM:-0500
TZOFFSETTO:-0600
TZNAME:CST
DTSTART:20241103T070000
END:STANDARD
BEGIN:DAYLIGHT
TZOFFSETFROM:-0600
TZOFFSETTO:-0500
TZNAME:CDT
DTSTART:20250309T080000
END:DAYLIGHT
BEGIN:STANDARD
TZOFFSETFROM:-0500
TZOFFSETTO:-0600
TZNAME:CST
DTSTART:20251102T070000
END:STANDARD
END:VTIMEZONE
BEGIN:VEVENT
DTSTART;TZID=America/Chicago:20240913T160000
DTEND;TZID=America/Chicago:20240913T180000
DTSTAMP:20260422T114054
CREATED:20240807T141317Z
LAST-MODIFIED:20240807T141317Z
UID:10000033-1726243200-1726250400@sunkistcc.com
SUMMARY:Ladies Night at Sunkist!
DESCRIPTION:2 drinks for the price of 1 for all Ladies!    Men will pay regular prices and you cannot drink a freebie from your date!!    The 2 for 1 Ladies special will be from 4P to 6P and the grill will be open until 8:00PM for your dining pleasure.
URL:https://sunkistcc.com/event/ladies-night-at-sunkist/2024-09-13/
END:VEVENT
BEGIN:VEVENT
DTSTART;TZID=America/Chicago:20240913T160000
DTEND;TZID=America/Chicago:20240913T200000
DTSTAMP:20260422T114054
CREATED:20240831T112507Z
LAST-MODIFIED:20240831T112507Z
UID:10000087-1726243200-1726257600@sunkistcc.com
SUMMARY:Friday Night Grill Special by ML!
DESCRIPTION:Come to the club this Friday to meet our new cook\, Mike “ML” Keating and savor his delicious Seafood Chowder from the grill.     The grill will be open until 8:00PM for your dining pleasure and we will serve his chowder starting at 4:00PM!    Be sure and get some before we run out!   2 for 1 Ladies night special from 4 to 6!
URL:https://sunkistcc.com/event/friday-night-grill-special-by-ml/
END:VEVENT
END:VCALENDAR