BEGIN:VCALENDAR
VERSION:2.0
PRODID:-//Sunkist Country Club - ECPv6.15.20//NONSGML v1.0//EN
CALSCALE:GREGORIAN
METHOD:PUBLISH
X-WR-CALNAME:Sunkist Country Club
X-ORIGINAL-URL:https://sunkistcc.com
X-WR-CALDESC:Events for Sunkist Country Club
REFRESH-INTERVAL;VALUE=DURATION:PT1H
X-Robots-Tag:noindex
X-PUBLISHED-TTL:PT1H
BEGIN:VTIMEZONE
TZID:America/Chicago
BEGIN:DAYLIGHT
TZOFFSETFROM:-0600
TZOFFSETTO:-0500
TZNAME:CDT
DTSTART:20230312T080000
END:DAYLIGHT
BEGIN:STANDARD
TZOFFSETFROM:-0500
TZOFFSETTO:-0600
TZNAME:CST
DTSTART:20231105T070000
END:STANDARD
BEGIN:DAYLIGHT
TZOFFSETFROM:-0600
TZOFFSETTO:-0500
TZNAME:CDT
DTSTART:20240310T080000
END:DAYLIGHT
BEGIN:STANDARD
TZOFFSETFROM:-0500
TZOFFSETTO:-0600
TZNAME:CST
DTSTART:20241103T070000
END:STANDARD
BEGIN:DAYLIGHT
TZOFFSETFROM:-0600
TZOFFSETTO:-0500
TZNAME:CDT
DTSTART:20250309T080000
END:DAYLIGHT
BEGIN:STANDARD
TZOFFSETFROM:-0500
TZOFFSETTO:-0600
TZNAME:CST
DTSTART:20251102T070000
END:STANDARD
END:VTIMEZONE
BEGIN:VEVENT
DTSTART;TZID=America/Chicago:20240912T040000
DTEND;TZID=America/Chicago:20240912T190000
DTSTAMP:20260420T201820
CREATED:20240807T152519Z
LAST-MODIFIED:20240807T152519Z
UID:10000049-1726113600-1726167600@sunkistcc.com
SUMMARY:Pot Luck from the Kitchen
DESCRIPTION:We will be serving up some delicious food on Pot Luck nights\, complimentary from the kitchen.   Our grill will not be open but come grab a bite with your favorite beverage on our Thirsty Thursday nights!    Frozen Margaritas\, $3 draft & domestic beer and wine.      Please get here early before we run out of food!     Once we are out we will have our Bar Menu available.
URL:https://sunkistcc.com/event/pot-luck-from-the-kitchen-2/2024-09-12/
END:VEVENT
BEGIN:VEVENT
DTSTART;TZID=America/Chicago:20240912T153000
DTEND;TZID=America/Chicago:20240912T180000
DTSTAMP:20260420T201820
CREATED:20240807T151118Z
LAST-MODIFIED:20240807T151118Z
UID:10000048-1726155000-1726164000@sunkistcc.com
SUMMARY:BHS Golf Match
DESCRIPTION:Biloxi High School will have a golf match/tourney that will start at 3:30PM and have all tee times blocked until 5.    All regular play tee times are available before then.   Please join us in supporting the BHS Golf Team this year.
URL:https://sunkistcc.com/event/bhs-golf-match-2/
END:VEVENT
BEGIN:VEVENT
DTSTART;TZID=America/Chicago:20240912T160000
DTEND;TZID=America/Chicago:20240912T190000
DTSTAMP:20260420T201820
CREATED:20240807T085650Z
LAST-MODIFIED:20240807T085650Z
UID:10000007-1726156800-1726167600@sunkistcc.com
SUMMARY:Thirsty Thursday
DESCRIPTION:Frozen drink\, wine and beer specials.   Pot Luck on 8/8 and 8/22.    Bar menu available after grill closes.   4 to 7.
URL:https://sunkistcc.com/event/thirst-thursday/2024-09-12/
END:VEVENT
END:VCALENDAR