BEGIN:VCALENDAR
VERSION:2.0
PRODID:-//Sunkist Country Club - ECPv6.15.20//NONSGML v1.0//EN
CALSCALE:GREGORIAN
METHOD:PUBLISH
X-WR-CALNAME:Sunkist Country Club
X-ORIGINAL-URL:https://sunkistcc.com
X-WR-CALDESC:Events for Sunkist Country Club
REFRESH-INTERVAL;VALUE=DURATION:PT1H
X-Robots-Tag:noindex
X-PUBLISHED-TTL:PT1H
BEGIN:VTIMEZONE
TZID:America/Chicago
BEGIN:DAYLIGHT
TZOFFSETFROM:-0600
TZOFFSETTO:-0500
TZNAME:CDT
DTSTART:20230312T080000
END:DAYLIGHT
BEGIN:STANDARD
TZOFFSETFROM:-0500
TZOFFSETTO:-0600
TZNAME:CST
DTSTART:20231105T070000
END:STANDARD
BEGIN:DAYLIGHT
TZOFFSETFROM:-0600
TZOFFSETTO:-0500
TZNAME:CDT
DTSTART:20240310T080000
END:DAYLIGHT
BEGIN:STANDARD
TZOFFSETFROM:-0500
TZOFFSETTO:-0600
TZNAME:CST
DTSTART:20241103T070000
END:STANDARD
BEGIN:DAYLIGHT
TZOFFSETFROM:-0600
TZOFFSETTO:-0500
TZNAME:CDT
DTSTART:20250309T080000
END:DAYLIGHT
BEGIN:STANDARD
TZOFFSETFROM:-0500
TZOFFSETTO:-0600
TZNAME:CST
DTSTART:20251102T070000
END:STANDARD
END:VTIMEZONE
BEGIN:VEVENT
DTSTART;TZID=America/Chicago:20240903T083000
DTEND;TZID=America/Chicago:20240903T113000
DTSTAMP:20260422T145942
CREATED:20240807T142029Z
LAST-MODIFIED:20240807T142029Z
UID:10000035-1725352200-1725363000@sunkistcc.com
SUMMARY:Biloxi High School Golf Tournament
DESCRIPTION:Biloxi High School will have a golf tournament starting at 8:30AM.   We will be trying to get our regular groups off that morning in front of the event and reverse shotgun the boys off the back nine.    The golf course should be available for tee times by 11:30AM
URL:https://sunkistcc.com/event/biloxi-high-school-golf-tournament/
END:VEVENT
BEGIN:VEVENT
DTSTART;TZID=America/Chicago:20240903T160000
DTEND;TZID=America/Chicago:20240903T190000
DTSTAMP:20260422T145942
CREATED:20240807T090700Z
LAST-MODIFIED:20240807T090700Z
UID:10000014-1725379200-1725390000@sunkistcc.com
SUMMARY:Taco Tuesday!
DESCRIPTION:$3 Tacos\, margaritas\, wine and beer specials.
URL:https://sunkistcc.com/event/taco-tuesday/2024-09-03/
END:VEVENT
END:VCALENDAR